BEGIN:VCALENDAR
VERSION:2.0
PRODID:-//Ohio Republican Party - ECPv6.15.13.1//NONSGML v1.0//EN
CALSCALE:GREGORIAN
METHOD:PUBLISH
X-WR-CALNAME:Ohio Republican Party
X-ORIGINAL-URL:https://ohiogop.org
X-WR-CALDESC:Events for Ohio Republican Party
REFRESH-INTERVAL;VALUE=DURATION:PT1H
X-Robots-Tag:noindex
X-PUBLISHED-TTL:PT1H
BEGIN:VTIMEZONE
TZID:America/New_York
BEGIN:DAYLIGHT
TZOFFSETFROM:-0500
TZOFFSETTO:-0400
TZNAME:EDT
DTSTART:20240310T070000
END:DAYLIGHT
BEGIN:STANDARD
TZOFFSETFROM:-0400
TZOFFSETTO:-0500
TZNAME:EST
DTSTART:20241103T060000
END:STANDARD
BEGIN:DAYLIGHT
TZOFFSETFROM:-0500
TZOFFSETTO:-0400
TZNAME:EDT
DTSTART:20250309T070000
END:DAYLIGHT
BEGIN:STANDARD
TZOFFSETFROM:-0400
TZOFFSETTO:-0500
TZNAME:EST
DTSTART:20251102T060000
END:STANDARD
BEGIN:DAYLIGHT
TZOFFSETFROM:-0500
TZOFFSETTO:-0400
TZNAME:EDT
DTSTART:20260308T070000
END:DAYLIGHT
BEGIN:STANDARD
TZOFFSETFROM:-0400
TZOFFSETTO:-0500
TZNAME:EST
DTSTART:20261101T060000
END:STANDARD
BEGIN:DAYLIGHT
TZOFFSETFROM:-0500
TZOFFSETTO:-0400
TZNAME:EDT
DTSTART:20270314T070000
END:DAYLIGHT
BEGIN:STANDARD
TZOFFSETFROM:-0400
TZOFFSETTO:-0500
TZNAME:EST
DTSTART:20271107T060000
END:STANDARD
END:VTIMEZONE
BEGIN:VEVENT
DTSTART;TZID=America/New_York:20260327T180000
DTEND;TZID=America/New_York:20260327T180000
DTSTAMP:20260420T134849
CREATED:20260225T184016Z
LAST-MODIFIED:20260225T184016Z
UID:6836-1774634400-1774634400@ohiogop.org
SUMMARY:Clark County Republican Party Annual Lincoln Day Dinner
DESCRIPTION:Clark County Republican Party Annual Lincoln Day Dinner \nFriday\, March 27\, 2026 at the Courtyard by Marriott100 S. Fountain Avenue\, Springfield\, Ohio 45502 \nFeaturing Keynote Speaker Jon Husted\, US Senator from Ohio \nGeneral admission: $75 per person (opens at 5:30 pm)VIP: $125 per person (opens at 4:30 pm) with photo shoot by Champion City Photography \nWebsite: https://www.clarkcountyrepublicanpartyohio.com/donatebuytickets?fbclid=IwZXh0bgNhZW0CMTAAYnJpZBEyRHdmRnJXcm1UaGFORWdkcXNydGMGYXBwX2lkEDIyMjAzOTE3ODgyMDA4OTIAAR5nR54BzZd0pGFt2JxItlRmIHeLsTmkYYQI0d-9Zvk7WR8pI7GJThR7FMbMww_aem_5qh9-rpTBnmZRMHSXUuvZQ
URL:https://ohiogop.org/events/clark-county-republican-party-annual-lincoln-day-dinner/
LOCATION:Courtyard by Marriott\, 100 S. Fountain Avenue\, Springfield\, OH\, 45502\, United States
END:VEVENT
BEGIN:VEVENT
DTSTART;TZID=America/New_York:20260323T173000
DTEND;TZID=America/New_York:20260323T183000
DTSTAMP:20260420T134849
CREATED:20260225T183950Z
LAST-MODIFIED:20260225T183950Z
UID:6830-1774287000-1774290600@ohiogop.org
SUMMARY:Highland County Republican Lincoln Day Dinner
DESCRIPTION:Annual Lincoln Day Dinner with local\, State and Federal candidates and officeholder Come join us and meet the candidates on the May Primary from 5:30 to 6:30. Dinner served at 6:30. Gun Raffle by the Republican Club.. \nDate: 2026-03-23Location: Back Room Paradise 6174 Miller Lane\, Hillsboro\, Oh 45133
URL:https://ohiogop.org/events/highland-county-republican-lincoln-day-dinner/
LOCATION:Back Room Paradise\, 6174 Miller Lane\, Hillsboro\, OH\, 45133\, United States
END:VEVENT
BEGIN:VEVENT
DTSTART;TZID=America/New_York:20260318T000000
DTEND;TZID=America/New_York:20260318T000000
DTSTAMP:20260420T134849
CREATED:20260316T140136Z
LAST-MODIFIED:20260316T140136Z
UID:6931-1773792000-1773792000@ohiogop.org
SUMMARY:Sycamore Twsp./Deer Park Ohio March Meeting w/ Judge Shannan
DESCRIPTION:Monthly Meet n Greet \nDate: 2026-03-18Location: Deer Park Community Center\, 7640 Plainfield Road\, Deer Park Ohio 45236
URL:https://ohiogop.org/events/sycamore-twsp-deer-park-ohio-march-meeting-w-judge-shannan/
LOCATION:Deer Park Community Center\, 7640 Plainfield Road\, Deer Park\, OH\, 45236\, United States
END:VEVENT
BEGIN:VEVENT
DTSTART;TZID=America/New_York:20260314T170000
DTEND;TZID=America/New_York:20260314T170000
DTSTAMP:20260420T134849
CREATED:20260128T183830Z
LAST-MODIFIED:20260128T183830Z
UID:6508-1773507600-1773507600@ohiogop.org
SUMMARY:Putnam County Students for Life Dinner
DESCRIPTION:Students for life dinner in Putnam County. Keynote speaker is Pastor Lorenzo Sewell. \nDate: 2026-03-14Location: Ottawa American Legion post 63Address: 218 W Main St\, Ottawa\, OH 45875
URL:https://ohiogop.org/events/putnam-county-students-for-life-dinner/
LOCATION:Ottawa American Legion post 63\, 218 W Main St\, Ottawa\, OH\, 45875\, United States
END:VEVENT
BEGIN:VEVENT
DTSTART;TZID=America/New_York:20260314T090000
DTEND;TZID=America/New_York:20260314T110000
DTSTAMP:20260420T134849
CREATED:20260225T184018Z
LAST-MODIFIED:20260225T184018Z
UID:6840-1773478800-1773486000@ohiogop.org
SUMMARY:27th Annual Ohio Republican Pancake Breakfast
DESCRIPTION:27th Annual Ohio Republican Pancake Breakfast \nDate: 2026-03-14Time: 9am-11amLocation: Sharonville Convention Center \nKeynote Speaker Vivek Ramaswamy and comments by statewide candidates. $40 adv\, $50 at the door
URL:https://ohiogop.org/events/27th-annual-ohio-republican-pancake-breakfast/
LOCATION:Sharonville Convention Center\, 11355 Chester Rd\, Cincinnati\, OH\, 45246\, United States
END:VEVENT
BEGIN:VEVENT
DTSTART;TZID=America/New_York:20260309T170000
DTEND;TZID=America/New_York:20260309T170000
DTSTAMP:20260420T134849
CREATED:20260119T143952Z
LAST-MODIFIED:20260119T143952Z
UID:6388-1773075600-1773075600@ohiogop.org
SUMMARY:Wyandot County Republican Party Lincoln Day Dinner/Gun Auction
DESCRIPTION:Wyandot County Republican Party Lincoln Day Dinner/Gun Auction \nMarch 9\, 2026 \nWyandot County Masters Building \nDoors Open at 5pm/Dinner at 6pm \nLive Bidding Begins at 8pm (Online bidding available now through WMS) \n$30/ticket \nCatered by Corner Inn \nBill Clinger 419-835-4575 or Tonya Kitzler 419-722-1455
URL:https://ohiogop.org/events/wyandot-county-republican-party-lincoln-day-dinner-gun-auction/
LOCATION:Wyandot County Masters Building\, 10171 OH-53 N\, Upper Sandusky\, OH\, 43351\, United States
END:VEVENT
BEGIN:VEVENT
DTSTART;TZID=America/New_York:20260302T180000
DTEND;TZID=America/New_York:20260302T180000
DTSTAMP:20260420T134849
CREATED:20260119T143953Z
LAST-MODIFIED:20260215T165623Z
UID:6390-1772474400-1772474400@ohiogop.org
SUMMARY:Union County Lincoln Day Dinner
DESCRIPTION:Save the Date: Union County Lincoln Day Dinner \nMonday\, March 2\, 2026\n6 PM \nVenue: Der Dutchman\, 445 S. Jefferson Ave.\, Plain City\, OH 43064 \nDoors open 5:30\, dinner at 6:00pm \n$50 per ticket. \nKeynote is Senator Rob McColley\, President and Candidate for Lt. Governor; Special Guests: State Senator and President Pro Tempore of Senate\, Bill Reineke and Ohio Supreme Court Justice\, Daniel Hawkins. \nChecks payable to Union County Republican Party; Mail to c/o Beth Marshall 16404 SR 347 Marysville\, OH 43040 or email beth.marshall2@gmail.com to RSVP to pay at the door. For sponsorships\, contact Sarah Herbert at 614-746-9985 or slherbert@yahoo.com. \nWebsite: https://ucrpohio.com/events
URL:https://ohiogop.org/events/union-county-lincoln-day-dinner/
LOCATION:Der Dutchman Plain City\, 445 Jefferson Ave\,\, Plain City\, 43064\, United States
END:VEVENT
BEGIN:VEVENT
DTSTART;TZID=America/New_York:20260228T083000
DTEND;TZID=America/New_York:20260228T103000
DTSTAMP:20260420T134849
CREATED:20260128T183828Z
LAST-MODIFIED:20260128T183828Z
UID:6504-1772267400-1772274600@ohiogop.org
SUMMARY:2026 Ashtabula County Republican Party Reagan Breakfast
DESCRIPTION:Ashtabula County Republican Party 2026 ACRP Reagan Breakfast. \nDate: FEB 28 2026Time: 8:30-10:30 AMLocation: Lenox Community Center\, 2509 Lenox-New Lyme Rd\, Jefferson\, OH 44047Tickets: $20/personTo RSVP: email vc@ashtabulagop.com or call 440-415-4310Keynote Speaker: US Senator Jon HustedWebsite: www.ashtabulagop.com
URL:https://ohiogop.org/events/2026-ashtabula-county-republican-party-reagan-breakfast/
LOCATION:Lenox Community Center\, 2509 Lenox-New Lyme Rd\, Jefferson\, OH\, 44047\, United States
END:VEVENT
BEGIN:VEVENT
DTSTART;TZID=America/New_York:20260217T170000
DTEND;TZID=America/New_York:20260217T190000
DTSTAMP:20260420T134849
CREATED:20260115T001652Z
LAST-MODIFIED:20260115T002428Z
UID:6324-1771347600-1771354800@ohiogop.org
SUMMARY:Ohio Young Republicans House Caucus Happy Hour
DESCRIPTION:Meet Young Republican legislators from across the State of Ohio and interact with your fellow Young Republicans. There will also be updates on Ohio Young Republican events that are coming up!
URL:https://ohiogop.org/events/ohio-young-republicans-house-caucus-happy-hour/
LOCATION:Renaissance Hotel Bar\, 50 N 3rd St.\, Columbus\, OH\, 43215\, United States
END:VEVENT
BEGIN:VEVENT
DTSTART;TZID=America/New_York:20260216T180000
DTEND;TZID=America/New_York:20260216T200000
DTSTAMP:20260420T134849
CREATED:20251203T180929Z
LAST-MODIFIED:20251203T180929Z
UID:5935-1771264800-1771272000@ohiogop.org
SUMMARY:Holmes County Lincoln Day Dinner
DESCRIPTION:More details to come…
URL:https://ohiogop.org/events/holmes-county-lincoln-day-dinner/
LOCATION:Carlisle Village Inn\, 4949 Walnut Street\, Walnut Creek\, OH\, 44687\, United States
END:VEVENT
BEGIN:VEVENT
DTSTART;TZID=America/New_York:20260208T180000
DTEND;TZID=America/New_York:20260208T180000
DTSTAMP:20260420T134849
CREATED:20260116T224014Z
LAST-MODIFIED:20260116T224014Z
UID:6365-1770573600-1770573600@ohiogop.org
SUMMARY:Turning Point Action Game Day
DESCRIPTION:Turning Point Action Game Day (RSVP Required) \nFebruary 8 | 6:00PM \nOhio Brewing Company \nColumbus 421 E 2nd Ave\, Columbus\, OH 43201 \nJoin us for a family friendly evening of football\, food\, and fellow conservatives as we watch the big game! \nWebsite: https://tpaction.com/gameday
URL:https://ohiogop.org/events/turning-point-action-game-day/
LOCATION:Ohio Brewing Company\, 421 E 2nd Ave\, Columbus\, OH\, 43201\, United States
END:VEVENT
BEGIN:VEVENT
DTSTART;TZID=America/New_York:20260205T113000
DTEND;TZID=America/New_York:20260205T113000
DTSTAMP:20260420T134849
CREATED:20260116T225907Z
LAST-MODIFIED:20260116T225907Z
UID:6379-1770291000-1770291000@ohiogop.org
SUMMARY:Trumbull County Republican Women’s Club February Meeting
DESCRIPTION:Trumbull County Republican Women’s Club February Meeting \nMike Wilson\, Executive Director of SCOPE\, will speak on Opportunities for Active Adults.Nathan Lutz\, founder of Labrae H.S. chapter of Turning Point USA\, will also speak. \nThursday\, February 5\, 2026 @ 11:30 a.m.\, $25.00 per person \nThe Chophouse\, 9519 E. Market\, Warren (Howland) \nYou MUST MAKE advance reservations & lunch choice by January 31st\, by e-mailing Lori at ljhineman@gmail.com or text 330-442-7468. Your choices for Lunch: 1. Meatloaf\, or 2. Chicken Parmigiana\, or 3. Asian Salmon.
URL:https://ohiogop.org/events/trumbull-county-republican-womens-club-february-meeting/
LOCATION:The Chophouse\, 9519 E. Market\, Warren\, OH\, 44484\, United States
END:VEVENT
BEGIN:VEVENT
DTSTART;TZID=America/New_York:20260129T173000
DTEND;TZID=America/New_York:20260129T193000
DTSTAMP:20260420T134849
CREATED:20260126T130654Z
LAST-MODIFIED:20260126T130901Z
UID:6462-1769707800-1769715000@ohiogop.org
SUMMARY:Hamilton County Candidate Petition Signing Party
DESCRIPTION:Candidate Petition Signing Party \nThursday\, January 29th\, 5:30pm – 7:30pm \nPrice Hill Chili\, 4920 Glenway Ave\, Cincinnati\, OH 45238 \nJoin us to gather candidate petition signatures to help our Statewide Republican candidates get on the ballot!
URL:https://ohiogop.org/events/hamilton-county-candidate-petition-signing-party/
LOCATION:Price Hill Chili\, 4920 Glenway Ave\, Cincinnati\, OH\, 45238\, United States
END:VEVENT
BEGIN:VEVENT
DTSTART;TZID=America/New_York:20260128T170000
DTEND;TZID=America/New_York:20260128T190000
DTSTAMP:20260420T134849
CREATED:20260126T135032Z
LAST-MODIFIED:20260126T235334Z
UID:6468-1769619600-1769626800@ohiogop.org
SUMMARY:Capital City Young Republicans Kickoff Happy Hour With Candidate Petition Signing
DESCRIPTION:Capital City Young Republicans Kickoff Happy Hour and Candidate Petition Signing w/ Special Guests: Vivek Ramaswamy & Senate President Rob McColley. \nAddress: Ohio Chamber of Commerce\, 34 South Third Street Columbus\, OH 43215
URL:https://ohiogop.org/events/capital-city-young-republicans-kickoff-happy-hour-with-candidate-petition-signing/
LOCATION:Ohio Chamber Of Commerce\, 34 S. Third St.\, Columbus\, OH\, 43215\, United States
END:VEVENT
BEGIN:VEVENT
DTSTART;TZID=America/New_York:20260121T173000
DTEND;TZID=America/New_York:20260121T190000
DTSTAMP:20260420T134849
CREATED:20251125T152537Z
LAST-MODIFIED:20251125T152537Z
UID:5889-1769016600-1769022000@ohiogop.org
SUMMARY:Brown County Conservative Republican Women's Club Meeting
DESCRIPTION:Join the Brown County Conservative Republican Women’s Club Meeting where the guest speaker will be Judge Matt Byrne\, Ohio Court of Appeals\, Twelfth District. This meeting is open to the public and men are welcome to attend.
URL:https://ohiogop.org/events/brown-county-conservative-republican-womens-club-meeting/
LOCATION:Brown County ESC\, 9231 Hamer Road\, Georgetown\, OH\, 45121\, United States
END:VEVENT
BEGIN:VEVENT
DTSTART;TZID=America/New_York:20260120T190000
DTEND;TZID=America/New_York:20260120T190000
DTSTAMP:20260420T134849
CREATED:20260117T185724Z
LAST-MODIFIED:20260117T185724Z
UID:6384-1768935600-1768935600@ohiogop.org
SUMMARY:Meet the Candidates Night
DESCRIPTION:Meet the Candidates Night — Hosted by the Gallia County Republican Party. \nJoin us for an evening to meet the candidates\, hear their vision\, and learn more about the future of our state and community. \nFeaturing: Judge Colleen O’Donnell (Candidate for Supreme Court)\, Judge Jill Lanzinger (Candidate for Supreme Court)\, Judge Ron Lewis (Candidate for Supreme Court)\, Jay Edwards (Candidate for State Treasurer)\, Marcell Strbich (Candidate for Secretary of State)\, plus our 2026 local candidates. \nTuesday\, January 20th at 7:00 PM. \nLocation: Gallia County Senior Citizens Center\, 1165 St. Rt. 160\, Gallipolis\, 45631. \nOpen to the public.
URL:https://ohiogop.org/events/meet-the-candidates-night/
LOCATION:Gallia County Senior Citizens Center\, 1165 St. Rt. 160\, Gallipolis\, OH\, 45631\, United States
END:VEVENT
BEGIN:VEVENT
DTSTART;TZID=America/New_York:20260120T190000
DTEND;TZID=America/New_York:20260120T190000
DTSTAMP:20260420T134849
CREATED:20260117T185314Z
LAST-MODIFIED:20260117T185314Z
UID:6382-1768935600-1768935600@ohiogop.org
SUMMARY:Bringing America to Athens
DESCRIPTION:Join us in saying the Pledge of Allegiance at the Athens City Council meeting at 7PM 1/20/26. \nLocation: Athens Mayor’s Office\, 8 E Washington St\, Athens\, OH 45701
URL:https://ohiogop.org/events/bringing-america-to-athens/
LOCATION:Athens Mayor’s Office\, 8 E Washington St\, Athens\, OH\, 45701\, United States
END:VEVENT
BEGIN:VEVENT
DTSTART;TZID=America/New_York:20260120T190000
DTEND;TZID=America/New_York:20260120T190000
DTSTAMP:20260420T134849
CREATED:20260116T224808Z
LAST-MODIFIED:20260116T224808Z
UID:6372-1768935600-1768935600@ohiogop.org
SUMMARY:State of Excellence: Vivek for Ohio - Show Up and Sign the Petition!
DESCRIPTION:STATE OF EXCELLENCEVIVEK FOR OHIOSHOW UP AND SIGN THE PETITION! \nVivek Ramaswamy and Rob McColley can’t appear on the ballot without your signature! \nGallia County Senior Citizens Center1165 OH-160\, Gallipolis\, OH 45631 \nTuesday\, January 20th 20267:00pm
URL:https://ohiogop.org/events/state-of-excellence-vivek-for-ohio-show-up-and-sign-the-petition/
LOCATION:Gallia County Senior Citizens Center\, 1165 St. Rt. 160\, Gallipolis\, OH\, 45631\, United States
END:VEVENT
BEGIN:VEVENT
DTSTART;TZID=America/New_York:20260119T110000
DTEND;TZID=America/New_York:20260119T190000
DTSTAMP:20260420T134849
CREATED:20260116T224807Z
LAST-MODIFIED:20260116T224807Z
UID:6370-1768820400-1768849200@ohiogop.org
SUMMARY:State of Excellence: Vivek for Ohio Petition Signing
DESCRIPTION:HQ Open 1/19 11a-7pState of ExcellenceVivek for OhioPetition SigningLocation: 48 N. 4th Street\, Newark\, 43055
URL:https://ohiogop.org/events/state-of-excellence-vivek-for-ohio-petition-signing-2/
LOCATION:Republican Party of Licking County\, 48 N. 4th Street\, Newark\, 43055\, United States
END:VEVENT
BEGIN:VEVENT
DTSTART;TZID=America/New_York:20260115T050000
DTEND;TZID=America/New_York:20260115T070000
DTSTAMP:20260420T134849
CREATED:20260116T225247Z
LAST-MODIFIED:20260116T225247Z
UID:6376-1768453200-1768460400@ohiogop.org
SUMMARY:Petition Signing - Vivek Ramaswamy\, Rob McColley (and others)
DESCRIPTION:Petition Signing \nVivek RamaswamyRob McColley(and others) \nDate: January 15\, 2026 (Thursday)Time: 5-7Venue: Butcher BlockAddress: 2280 St. Rt. 56 SW\, London\, Ohio 43140 \nThis is a petition gathering event for Vivek Ramaswamy for Governor of Ohio.
URL:https://ohiogop.org/events/petition-signing-vivek-ramaswamy-rob-mccolley-and-others/
LOCATION:Butcher Block\, 2280 St. Rt. 56 SW\, London\, OH\, 43140\, United States
END:VEVENT
BEGIN:VEVENT
DTSTART;TZID=America/New_York:20260107T180000
DTEND;TZID=America/New_York:20260107T200000
DTSTAMP:20260420T134849
CREATED:20260106T161643Z
LAST-MODIFIED:20260106T161643Z
UID:6175-1767808800-1767816000@ohiogop.org
SUMMARY:Vivek Ramaswamy to Deliver Special Announcement in Northeast Ohio
DESCRIPTION:Join Vivek Ramaswamy\, the Party’s endorsed candidate for Governor\, in Northeast Ohio where he will take the stage for a special announcement regarding the future of his campaign.\n\n \n\nAs outlined below\, the event will take place on Wednesday\, January 7\, 2026\, at Windows on the River in Cleveland. Doors will open at 6:00 PM\, with the program beginning at 6:30 PM.\n\nRamaswamy enters the new year with strong momentum following a statewide campaign effort that included visits to all 88 Ohio counties and record-breaking grassroots fundraising support. His campaign has focused on direct voter engagement and advancing a policy agenda centered on economic growth\, government accountability\, and opportunity for Ohio families.\n\n\n\nAdditional details and RSVP information are available at:\n\n \n\nhttps://vivekforohio.com/special-announcement
URL:https://ohiogop.org/events/vivek-ramaswamy-to-deliver-special-announcement-in-northeast-ohio/
LOCATION:Windows on the River\, 2000 Sycamore St\, Cleveland\, OH\, 44113\, United States
END:VEVENT
BEGIN:VEVENT
DTSTART;TZID=America/New_York:20251222T173000
DTEND;TZID=America/New_York:20251222T223000
DTSTAMP:20260420T134849
CREATED:20251119T211741Z
LAST-MODIFIED:20251119T211741Z
UID:5854-1766424600-1766442600@ohiogop.org
SUMMARY:2025 Cuyahoga GOP Holiday Party
DESCRIPTION:You’re invited to the Cuyahoga GOP Holiday Party! \nJoin us with special guests U.S. Senator Jon Husted and Ohio Secretary of State Frank LaRose. \n📍 Summer Place — 12900 Lake Ave\, Lakewood\, OH 44107\n📅 Monday\, December 22\n⏰ VIP: 5:30 PM | Doors Open: 6:00 PM\nTickets:\n•    🎟️ $50 – General Admission\n•    🎟️ $100 – Includes 2026 Executive Committee Membership\n•    ⭐ $250 – VIP Experience\nSponsorship opportunities available. \nWe hope to celebrate with you!
URL:https://ohiogop.org/events/2025-cuyahoga-gop-holiday-party/
LOCATION:Summer Place\, 12900 Lake Ave Unit 2\, Lakewood\, OH\, 44107\, United States
END:VEVENT
BEGIN:VEVENT
DTSTART;TZID=America/New_York:20251219T190000
DTEND;TZID=America/New_York:20251219T203000
DTSTAMP:20260420T134849
CREATED:20251125T153656Z
LAST-MODIFIED:20251125T153656Z
UID:5893-1766170800-1766176200@ohiogop.org
SUMMARY:Wyandot County Young Republicans Recruitment Event
DESCRIPTION:Wyandot County Young Republicans Recruitment Event kickoff event. \nRecruit new Young Republicans. Flyer is posted on our Facebook page “Wyandot County Young Republicans”
URL:https://ohiogop.org/events/wyandot-county-young-republicans-recruitment-event/
LOCATION:The Alibi Room\, 128 S Sandusky Ave\, Sandusky\, OH\, 43351\, United States
END:VEVENT
BEGIN:VEVENT
DTSTART;TZID=America/New_York:20251218T180000
DTEND;TZID=America/New_York:20251218T210000
DTSTAMP:20260420T134849
CREATED:20251125T151215Z
LAST-MODIFIED:20251125T151215Z
UID:5882-1766080800-1766091600@ohiogop.org
SUMMARY:Montgomery County Republican Party Christmas Party
DESCRIPTION:Join Chairman Phil Plummer and the Montgomery County Republican Party for our Annual Christmas Party. There will be food\, music and all the festivities. Please make sure to RSVP by December 15th as space is limited. \nTickets are $35 \nYou can pay online\, by cash or personal check. Payment must be received by the date of the event to attend.
URL:https://ohiogop.org/events/montgomery-county-republican-party-christmas-party/
LOCATION:VFW Vandalia\, 4170 Old Springfield Rd\, Vandalia\, OH\, 45377\, United States
END:VEVENT
BEGIN:VEVENT
DTSTART;TZID=America/New_York:20251215T173000
DTEND;TZID=America/New_York:20251215T193000
DTSTAMP:20260420T134849
CREATED:20251117T153924Z
LAST-MODIFIED:20251117T153924Z
UID:5786-1765819800-1765827000@ohiogop.org
SUMMARY:Lake County Republican Party Holiday Celebration
DESCRIPTION:Celebrate with family\, friends and enjoy Holiday Meal – Donations welcome and appreciated!
URL:https://ohiogop.org/events/lake-county-republican-party-holiday-celebration/
LOCATION:Buona Festa Social Club\, 8658 Mentor Avenue\, Mentor\, OH\, 44060\, United States
END:VEVENT
BEGIN:VEVENT
DTSTART;TZID=America/New_York:20251211T180000
DTEND;TZID=America/New_York:20251211T200000
DTSTAMP:20260420T134849
CREATED:20251203T173709Z
LAST-MODIFIED:20251203T173709Z
UID:5926-1765476000-1765483200@ohiogop.org
SUMMARY:Strongsville GOP Christmas Party with Vivek Ramaswamy
DESCRIPTION:Strongsville GOP Christmas Party \nJoin us Thursday\, Dec. 11th at Encore Event Center for the best Christmas party of the year! Hear from Ohio’s next Governor\, Vivek Ramaswamy\, then rock the night away with Billy Morris & The Sunset Strip—the former lead guitarist from Warrant! \nVIP $150 | GA $30 – includes appetizers\, live entertainment\, one drink ticket & free valet service. \nGet your tickets here: https://strongsvillegop.tixoola.com/event/8903ac61-99d4-442b-9f87-5dd3d39901aa?referralCode=orp
URL:https://ohiogop.org/events/strongsville-gop-christmas-party-with-vivek-ramaswamy/
LOCATION:Encore Event Center\, 16808 Pearl Rd\, Strongsville\, OH\, 44136\, United States
END:VEVENT
BEGIN:VEVENT
DTSTART;TZID=America/New_York:20251211T180000
DTEND;TZID=America/New_York:20251211T200000
DTSTAMP:20260420T134849
CREATED:20251117T154628Z
LAST-MODIFIED:20251117T154628Z
UID:5794-1765476000-1765483200@ohiogop.org
SUMMARY:Trumbull County Republican Party Christmas Celebration
DESCRIPTION:Celebrate the season in true Republican spirit at the Trumbull County GOP Christmas Celebration—a festive evening of tradition\, community\, and conservative values. \n🗓 Date: Thursday\, December 11th\n🕕 Time: 6:00 PM\n📍 Location: Trumbull Country Club – 600 Golf Dr NE\, Warren\, OH \nJoin us in the elegant surroundings of the Trumbull Country Club for an unforgettable night filled with warmth\, inspiration\, and holiday joy. The evening will feature a live three-piece jazz band\, delicious appetizers\, and the opportunity to connect with fellow conservatives who share your dedication to faith\, family\, and freedom. \n🎄 Event Highlights: \n– Live music by a professional jazz trio\n– Gourmet appetizers and seasonal treats\n– Remarks from local Republican leaders\n– Beautiful décor and patriotic fellowship \nAs we reflect on the successes of 2025 and prepare for the year ahead\, your presence and support will help us continue to grow the Republican movement right here in Trumbull County. \n🎟 Reserve your spot today and join us for a night of celebration\, connection\, and commitment to the values that make America strong.
URL:https://ohiogop.org/events/trumbull-county-republican-party-christmas-celebration/
LOCATION:Trumbull County Country Club\, 600 Golf Dr NE\, Warren\, OH\, 44483\, United States
END:VEVENT
BEGIN:VEVENT
DTSTART;TZID=America/New_York:20251210T190000
DTEND;TZID=America/New_York:20251210T210000
DTSTAMP:20260420T134849
CREATED:20251112T200141Z
LAST-MODIFIED:20251112T200141Z
UID:5769-1765393200-1765400400@ohiogop.org
SUMMARY:Ohio Young Republicans Christmas Party w/ Scott Jennings
DESCRIPTION:Join the Ohio Young Republicans on December 10th\, 2025\, at 7:00 PM at the Columbus Country Club for an evening with Conservative Commentator Scott Jennings. \nGet your tickets at http://yrchristmas.com
URL:https://ohiogop.org/events/ohio-young-republicans-christmas-party-w-scott-jennings/
LOCATION:Columbus Country Club\, 4831 E Broad St\, Columbus\, 43213\, United States
END:VEVENT
BEGIN:VEVENT
DTSTART;TZID=America/New_York:20251210T180000
DTEND;TZID=America/New_York:20251210T200000
DTSTAMP:20260420T134849
CREATED:20251119T211431Z
LAST-MODIFIED:20251119T211431Z
UID:5850-1765389600-1765396800@ohiogop.org
SUMMARY:Portgage County GOP Special Evening with Vivek Ramaswamy
DESCRIPTION:Join us in Kent\, Ohio on December 10\, 2025\, for a special evening with Vivek Ramaswamy — Bringing you Ohio’s next Governor! \nTickets: $85.00Early Bird: $75.00 (limited availability) \nDon’t miss this chance to hear Vivek live and be part of this exciting movement! \nGet your tickets now: https://pcrp.ticketspice.com/2025-december-dinner
URL:https://ohiogop.org/events/portgage-county-gop-special-evening-with-vivek-ramaswamy/
LOCATION:Kent American Legion Post\, 1945 Mogadore Road\, Kent\, OH\, 44240\, United States
END:VEVENT
BEGIN:VEVENT
DTSTART;TZID=America/New_York:20251209T180000
DTEND;TZID=America/New_York:20251209T200000
DTSTAMP:20260420T134849
CREATED:20251117T154254Z
LAST-MODIFIED:20251117T154254Z
UID:5790-1765303200-1765310400@ohiogop.org
SUMMARY:Pike County GOP Christmas Party
DESCRIPTION:Christmas Party. Dinner Provided. No Charge.
URL:https://ohiogop.org/events/pike-county-gop-christmas-party/
LOCATION:Ritchie’s Backyard BBQ\, 577 S W St\, Piketon\, OH\, 45661\, United States
END:VEVENT
END:VCALENDAR