BEGIN:VCALENDAR
VERSION:2.0
PRODID:-//Ohio Republican Party - ECPv6.15.13.1//NONSGML v1.0//EN
CALSCALE:GREGORIAN
METHOD:PUBLISH
X-WR-CALNAME:Ohio Republican Party
X-ORIGINAL-URL:https://ohiogop.org
X-WR-CALDESC:Events for Ohio Republican Party
REFRESH-INTERVAL;VALUE=DURATION:PT1H
X-Robots-Tag:noindex
X-PUBLISHED-TTL:PT1H
BEGIN:VTIMEZONE
TZID:America/New_York
BEGIN:DAYLIGHT
TZOFFSETFROM:-0500
TZOFFSETTO:-0400
TZNAME:EDT
DTSTART:20250309T070000
END:DAYLIGHT
BEGIN:STANDARD
TZOFFSETFROM:-0400
TZOFFSETTO:-0500
TZNAME:EST
DTSTART:20251102T060000
END:STANDARD
BEGIN:DAYLIGHT
TZOFFSETFROM:-0500
TZOFFSETTO:-0400
TZNAME:EDT
DTSTART:20260308T070000
END:DAYLIGHT
BEGIN:STANDARD
TZOFFSETFROM:-0400
TZOFFSETTO:-0500
TZNAME:EST
DTSTART:20261101T060000
END:STANDARD
BEGIN:DAYLIGHT
TZOFFSETFROM:-0500
TZOFFSETTO:-0400
TZNAME:EDT
DTSTART:20270314T070000
END:DAYLIGHT
BEGIN:STANDARD
TZOFFSETFROM:-0400
TZOFFSETTO:-0500
TZNAME:EST
DTSTART:20271107T060000
END:STANDARD
END:VTIMEZONE
BEGIN:VEVENT
DTSTART;TZID=America/New_York:20260416T173000
DTEND;TZID=America/New_York:20260416T173000
DTSTAMP:20260420T102305
CREATED:20260119T172821Z
LAST-MODIFIED:20260119T172821Z
UID:6396-1776360600-1776360600@ohiogop.org
SUMMARY:2026 Pike County Lincoln Dinner featuring Vivek Ramaswamy
DESCRIPTION:Pike County Republican Party Lincoln Dinner with Ohio Governor candidate Vivek Ramaswamy. \nDate: Thursday\, April 16th\, 2026Time: Social 5:30pm\, Dinner/Program 6:00pmVenue: Miracle City Academy\, 204 Commercial Blvd\, Piketon\, OH 45661Cost: Individual Ticket $35\, Table $400Website: https://www.facebook.com/share/p/16fvgCuPx5/
URL:https://ohiogop.org/events/2026-pike-county-lincoln-dinner-featuring-vivek-ramaswamy/
LOCATION:Miracle City Academy\, 204 Commercial Blvd\, Piketon\, OH\, 45661\, United States
END:VEVENT
BEGIN:VEVENT
DTSTART;TZID=America/New_York:20260415T180000
DTEND;TZID=America/New_York:20260415T180000
DTSTAMP:20260420T102305
CREATED:20260413T143510Z
LAST-MODIFIED:20260413T143510Z
UID:7383-1776276000-1776276000@ohiogop.org
SUMMARY:Trumbull County Lincoln Day Dinner with Vivek Ramaswamy
DESCRIPTION:Trumbull County Lincoln Day Dinner with Vivek Ramaswamy \nWednesday\, 4/15/26 \nEvent Starts: 6:00PM \nEastwood Event Centre5555 Youngstown Warren RdNiles\, OH 44446
URL:https://ohiogop.org/events/trumbull-county-lincoln-day-dinner-with-vivek-ramaswamy/
LOCATION:Eastwood Event Centre\, 5555 Youngstown Warren Rd\, Niles\, OH\, 44446\, United States
END:VEVENT
BEGIN:VEVENT
DTSTART;TZID=America/New_York:20260414T173000
DTEND;TZID=America/New_York:20260414T173000
DTSTAMP:20260420T102305
CREATED:20260413T143508Z
LAST-MODIFIED:20260413T143508Z
UID:7380-1776187800-1776187800@ohiogop.org
SUMMARY:Buckeye Firearms Association Special Announcement with Vivek Ramaswamy
DESCRIPTION:Buckeye Firearms Association Special Announcement with Vivek Ramaswamy \nApr 14\, 2026 at 5:30pm \nVance Outdoors Obetz4250 Alum Creek Dr\, Obetz\, OH 43207 \nhttp://vivekforohio.com/buckeye
URL:https://ohiogop.org/events/buckeye-firearms-association-special-announcement-with-vivek-ramaswamy/
LOCATION:Vance Outdoors Obetz\, 4250 Alum Creek Dr\, Obetz\, OH\, 43207\, United States
END:VEVENT
BEGIN:VEVENT
DTSTART;TZID=America/New_York:20260414T170000
DTEND;TZID=America/New_York:20260414T170000
DTSTAMP:20260420T102305
CREATED:20260128T185214Z
LAST-MODIFIED:20260128T185214Z
UID:6523-1776186000-1776186000@ohiogop.org
SUMMARY:Paulding County Republican Meet and greet
DESCRIPTION:Paulding County Republican Meet and greet \nDate: 2026-04-14Location: St Paul Lutheran church-Paulding (601 Flatrock Dr\, Paulding\, OH 45879) \nAll statewide and representative candidates speak for 5 minutes
URL:https://ohiogop.org/events/paulding-county-republican-meet-and-greet-2/
LOCATION:St Paul Lutheran Church-Paulding\, 601 Flatrock Dr\, Paulding\, OH\, 45879\, United States
END:VEVENT
BEGIN:VEVENT
DTSTART;TZID=America/New_York:20260413T173000
DTEND;TZID=America/New_York:20260413T180000
DTSTAMP:20260420T102305
CREATED:20260403T131034Z
LAST-MODIFIED:20260403T131034Z
UID:7262-1776101400-1776103200@ohiogop.org
SUMMARY:Gallia County Lincoln-Reagan Day Dinner
DESCRIPTION:Gallia County Lincoln-Reagan Day Dinner on Monday\, April 13th at the Holzer Leadership and Innovation Institute. Doors open at 5:30 P.M. for a social hour\, followed by dinner at 6:00 P.M. Keynote speaker: President of the Ohio Senate and candidate for Lt. Governor\, Rob McColley. \nAddress: 254 Jackson Pike\, Gallipolis\, OH 45631
URL:https://ohiogop.org/events/gallia-county-lincoln-reagan-day-dinner/
LOCATION:Holzer Leadership and Innovation Institute\, 254 Jackson Pike\, Gallipolis\, OH\, 45631\, United States
END:VEVENT
BEGIN:VEVENT
DTSTART;TZID=America/New_York:20260411T100000
DTEND;TZID=America/New_York:20260411T160000
DTSTAMP:20260420T102305
CREATED:20260403T131033Z
LAST-MODIFIED:20260403T131033Z
UID:7260-1775901600-1775923200@ohiogop.org
SUMMARY:Ohio Republican Party Campaign College
DESCRIPTION:Ohio Republican Party Campaign College \nSaturday\, April 11 • 10:00am – 4:00pm \nAddress: 471 E Broad St\, Columbus\, OH 43215 \nA training session for Ohio Republican candidates. \nRSVP: caleb@ohiogop.org
URL:https://ohiogop.org/events/ohio-republican-party-campaign-college/
LOCATION:Ohio GOP\, 471 E Broad St\, Columbus\, OH\, 43215\, United States
END:VEVENT
BEGIN:VEVENT
DTSTART;TZID=America/New_York:20260410T180000
DTEND;TZID=America/New_York:20260410T200000
DTSTAMP:20260420T102305
CREATED:20260316T135403Z
LAST-MODIFIED:20260316T135403Z
UID:6922-1775844000-1775851200@ohiogop.org
SUMMARY:Ohio Young Republicans Thousand Member Party
DESCRIPTION:We're celebrating a thousand members by putting the west in mid-west! Join us from 6PM to 8PM for a free event\, open bar up to $2K\, and light refreshments provided! \nDate: 2026-04-10Time: 6PM to 8PMLocation: I hate Cowboys – 1050 Old River Rd\, Cleveland\, OH 44113
URL:https://ohiogop.org/events/ohio-young-republicans-thousand-member-party/
LOCATION:I hate Cowboys\, 1050 Old River Rd\, Cleveland\, OH\, 44113\, United States
END:VEVENT
BEGIN:VEVENT
DTSTART;TZID=America/New_York:20260410T180000
DTEND;TZID=America/New_York:20260410T180000
DTSTAMP:20260420T102305
CREATED:20260327T161830Z
LAST-MODIFIED:20260327T161830Z
UID:7125-1775844000-1775844000@ohiogop.org
SUMMARY:Scioto County Lincoln Day Banquet
DESCRIPTION:Lincoln Day BanquetSponsored by Scioto County Republican Central CommitteeFriday\, April 10\, 2026Social 6:00 P.M.Dinner & Program 6:30 P.M.Shawnee State University—Waller GymnasiumRSVP by March 25For tickets or information call Kevin Craft (740) 935-7400 or Merit Smith (740) 935-1761Ticket $40 per person
URL:https://ohiogop.org/events/scioto-county-lincoln-day-banquet/
LOCATION:Shawnee State University—Waller Gymnasium\, 940 2nd St\, Portsmouth\, OH\, 45662\, United States
END:VEVENT
BEGIN:VEVENT
DTSTART;TZID=America/New_York:20260409T180000
DTEND;TZID=America/New_York:20260409T200000
DTSTAMP:20260420T102305
CREATED:20260403T131942Z
LAST-MODIFIED:20260403T131942Z
UID:7276-1775757600-1775764800@ohiogop.org
SUMMARY:Shelby County Lincoln Day Dinner with Rob McColley
DESCRIPTION:SHELBY COUNTY LINCOLN DAY DINNER WITH ROB McCOLLEY \nThursday\, 4/09/26 \nEvent Starts: 6:00 pm – 8:00 pm \nShelby Oaks Golf Club9900 Sidney-Freyburg RdSidney\, OH 45365 \nVIVEK FOR OHIO
URL:https://ohiogop.org/events/shelby-county-lincoln-day-dinner-with-rob-mccolley/
LOCATION:Shelby Oaks Golf Club\, 9900 Sidney-Freyburg Rd\, Sidney\, OH\, 45365\, United States
END:VEVENT
BEGIN:VEVENT
DTSTART;TZID=America/New_York:20260409T180000
DTEND;TZID=America/New_York:20260409T190000
DTSTAMP:20260420T102305
CREATED:20260316T135405Z
LAST-MODIFIED:20260316T135405Z
UID:6926-1775757600-1775761200@ohiogop.org
SUMMARY:Portage County Lincoln Day
DESCRIPTION:Portage County Lincoln Day \nDate: 2026-04-09Time: 6:00 pm – Cocktail Hour; 7:00 pm – Dinner & ProgramLocation: Kent American Legion – 1945 Mogadore Road\, Kent OH 44240Guest Speaker: State Rep -David ThomasWebsite: https://portagegop.com/
URL:https://ohiogop.org/events/portage-county-lincoln-day/
LOCATION:Kent American Legion\, 1945 Mogadore Road\, Kent\, OH\, 44240\, United States
END:VEVENT
BEGIN:VEVENT
DTSTART;TZID=America/New_York:20260409T180000
DTEND;TZID=America/New_York:20260409T180000
DTSTAMP:20260420T102305
CREATED:20260225T184020Z
LAST-MODIFIED:20260225T184020Z
UID:6842-1775757600-1775757600@ohiogop.org
SUMMARY:Wood County Lincoln Day
DESCRIPTION:Dinner w/Gubernatorial Ramaswamy and U.S. Senator Husted \nDate: 2026-04-09 \nVenue: Nazareth Hall\, 21211 W. River Road\, Grand Rapids\, OH 43522
URL:https://ohiogop.org/events/wood-county-lincoln-day/
LOCATION:Nazareth Hall\, 21211 W. River Road\, Grand Rapids\, OH\, 43522\, United States
END:VEVENT
BEGIN:VEVENT
DTSTART;TZID=America/New_York:20260409T120000
DTEND;TZID=America/New_York:20260409T130000
DTSTAMP:20260420T102305
CREATED:20260403T131032Z
LAST-MODIFIED:20260403T131032Z
UID:7258-1775736000-1775739600@ohiogop.org
SUMMARY:Licking County Meet & Greet w/ Ohio GOP Faithful and Chairman Matt Dole
DESCRIPTION:Licking County Meet and Greet \nThursday\, April 9 • 12:00 – 1:00pm \nRepublican Party of Licking48 N 4th St\, Newark\, OH 43055\, USA
URL:https://ohiogop.org/events/licking-county-meet-greet-w-ohio-gop-faithful-and-chairman-matt-dole/
LOCATION:Republican Party of Licking\, 48 N 4th St\, Newark\, OH\, 43055\, United States
END:VEVENT
BEGIN:VEVENT
DTSTART;TZID=America/New_York:20260408T190000
DTEND;TZID=America/New_York:20260408T210000
DTSTAMP:20260420T102305
CREATED:20260105T202543Z
LAST-MODIFIED:20260105T204350Z
UID:6164-1775674800-1775682000@ohiogop.org
SUMMARY:Seneca County Republican Women WWII Era Military Ball
DESCRIPTION:Seneca County Republican Women are hosting a WWII Era Military Ball. This is an opportunity to meet the statewide candidates for Seneca County.
URL:https://ohiogop.org/events/seneca-county-republican-women-wwii-era-military-ball/
LOCATION:The Chandelier\, 151 S. Washington St.\, Tiffin\, OH\, 44883\, United States
END:VEVENT
BEGIN:VEVENT
DTSTART;TZID=America/New_York:20260408T180000
DTEND;TZID=America/New_York:20260408T200000
DTSTAMP:20260420T102305
CREATED:20260403T131941Z
LAST-MODIFIED:20260403T131941Z
UID:7274-1775671200-1775678400@ohiogop.org
SUMMARY:Cuyahoga County Lincoln Day Dinner with Vivek Ramaswamy
DESCRIPTION:Vivek for Ohio presents the Cuyahoga County Lincoln Day Dinner with Vivek Ramaswamy. \nWednesday\, 4/8/26Time: 6:00pm – 8:00pmVenue: Windows On The River\, 2000 Sycamore St\, Cleveland\, OH 44113
URL:https://ohiogop.org/events/cuyahoga-county-lincoln-day-dinner-with-vivek-ramaswamy/
LOCATION:Windows on the River\, 2000 Sycamore St\, Cleveland\, OH\, 44113\, United States
END:VEVENT
BEGIN:VEVENT
DTSTART;TZID=America/New_York:20260408T170000
DTEND;TZID=America/New_York:20260408T220000
DTSTAMP:20260420T102305
CREATED:20260403T131031Z
LAST-MODIFIED:20260403T131031Z
UID:7256-1775667600-1775685600@ohiogop.org
SUMMARY:Carroll County Lincoln Day Dinner w/ Chairman Patti Oyer
DESCRIPTION:Carroll County Lincoln Day Dinner (Patti Oyer) \nWednesday\, April 8 • 5:00 – 10:00pm \nAtwood Yacht Club \n2637 Lodge Rd SW\, Sherrodsville\, OH 44675\, USA \nMore details to come
URL:https://ohiogop.org/events/carroll-county-lincoln-day-dinner-w-chairman-patti-oyer/
LOCATION:Atwood Yacht Club\, 2637 Lodge Rd SW\, Sherrodsville\, OH\, 44675\, United States
END:VEVENT
BEGIN:VEVENT
DTSTART;TZID=America/New_York:20260408T170000
DTEND;TZID=America/New_York:20260408T190000
DTSTAMP:20260420T102305
CREATED:20260403T131939Z
LAST-MODIFIED:20260403T131939Z
UID:7273-1775667600-1775674800@ohiogop.org
SUMMARY:Belmont County Lincoln Day Dinner with Rob McColley
DESCRIPTION:Vivek for Ohio presents the Belmont County Lincoln Day Dinner with Rob McColley. \nWednesday\, 4/08/26. Doors open: 5:00 pm. Start / End Time: 5:00 pm – 7:00 pm. \nShepherd Farm Barn and Event Center433 N Main StBethesda\, OH 43719
URL:https://ohiogop.org/events/belmont-county-lincoln-day-dinner-with-rob-mccolley/
LOCATION:Shepherd Farm Barn and Event Center\, 433 N Main St\, Bethesda\, OH\, 43719\, United States
END:VEVENT
BEGIN:VEVENT
DTSTART;TZID=America/New_York:20260408T120000
DTEND;TZID=America/New_York:20260408T130000
DTSTAMP:20260420T102305
CREATED:20260403T131030Z
LAST-MODIFIED:20260403T131030Z
UID:7254-1775649600-1775653200@ohiogop.org
SUMMARY:Summit County Ohio Lunch w/ Chairman Bryan Williams
DESCRIPTION:Lunch event in Summit County \nWednesday\, April 8 • 12:00 – 1:00pm \nSummit County Republican Party3250 W Market St #103\, Fairlawn\, OH 44333\, USA \nEvent Details: Chairman Alex will do the Chairman’s Roundtable from Summit GOP HQ. Bryan Williams will be the co-host. After\, meet with the local volunteers/elected officials.
URL:https://ohiogop.org/events/summit-county-ohio-lunch-w-chairman-bryan-williams/
LOCATION:Summit County Republican Party\, 3250 W Market St #103\, Fairlawn\, OH\, 44333\, United States
END:VEVENT
BEGIN:VEVENT
DTSTART;TZID=America/New_York:20260407T150000
DTEND;TZID=America/New_York:20260407T160000
DTSTAMP:20260420T102305
CREATED:20260403T131938Z
LAST-MODIFIED:20260403T131938Z
UID:7271-1775574000-1775577600@ohiogop.org
SUMMARY:Town Hall: Protecting Our Lake with Vivek Ramaswamy
DESCRIPTION:TOWN HALL: PROTECTING OUR LAKEWith Vivek RamaswamyTuesday\, 4/7/263:00 pm – 4:00pmLakeside Chautauqua\, Drackett Hall420 E 6th St.Lakeside\, OH 43440www.vivekforohio.com/lake-townhall
URL:https://ohiogop.org/events/town-hall-protecting-our-lake-with-vivek-ramaswamy/
LOCATION:Lakeside Chautauqua – Drackett Hall\, 420 E 6th St.\, Lakeside\, OH\, 43440\, United States
END:VEVENT
BEGIN:VEVENT
DTSTART;TZID=America/New_York:20260407T083000
DTEND;TZID=America/New_York:20260407T093000
DTSTAMP:20260420T102305
CREATED:20260403T131027Z
LAST-MODIFIED:20260403T131027Z
UID:7250-1775550600-1775554200@ohiogop.org
SUMMARY:Putnam County Breakfast With Chairman Tony Schroeder and Ohio GOP Faithful
DESCRIPTION:Breakfast w/ Tony Schroeder and Putnam County Stakeholders \nTuesday\, April 7 • 8:30 – 9:30am \nHenry’s Restaurant\, 810 N. Locust Street\, Ottawa\, OH
URL:https://ohiogop.org/events/putnam-county-breakfast-with-chairman-tony-schroeder-and-ohio-gop-faithful/
LOCATION:Henry’s Restaurant\, 810 N. Locust Street\, Ottawa\, OH\, 45875\, United States
END:VEVENT
BEGIN:VEVENT
DTSTART;TZID=America/New_York:20260406T173000
DTEND;TZID=America/New_York:20260406T203000
DTSTAMP:20260420T102305
CREATED:20260403T131026Z
LAST-MODIFIED:20260403T131026Z
UID:7248-1775496600-1775507400@ohiogop.org
SUMMARY:Allen County Ohio Ohio GOP Faithful Meet & Greet
DESCRIPTION:Monday\, April 6 • 5:30 – 8:30pmMilano Cafe 2383 Elida Rd\, Lima\, OH 45805\, United States
URL:https://ohiogop.org/events/allen-county-ohio-ohio-gop-faithful-meet-greet/
LOCATION:Milano Cafe\, 2383 Elida Rd\, Lima\, OH\, 45805\, United States
END:VEVENT
BEGIN:VEVENT
DTSTART;TZID=America/New_York:20260406T120000
DTEND;TZID=America/New_York:20260406T130000
DTSTAMP:20260420T102305
CREATED:20260403T131519Z
LAST-MODIFIED:20260403T131519Z
UID:7264-1775476800-1775480400@ohiogop.org
SUMMARY:Buc-ees Grand Opening
DESCRIPTION:
URL:https://ohiogop.org/events/buc-ees-grand-opening/
LOCATION:Buc-ee’s Huber Heights\, 8000 State Highway 235\, Huber Height\, OH\, 45424\, United States
END:VEVENT
BEGIN:VEVENT
DTSTART;TZID=America/New_York:20260403T181500
DTEND;TZID=America/New_York:20260403T181500
DTSTAMP:20260420T102305
CREATED:20260320T165015Z
LAST-MODIFIED:20260320T165205Z
UID:7048-1775240100-1775240100@ohiogop.org
SUMMARY:Allen County America’s 250 Celebration Dinner
DESCRIPTION:AMERICA’S 250 CELEBRATION DINNER“An American Night to Remember” \nFeaturing U.S. Senator Bernie Moreno \nFriday\, April 3Dinner 6:15PM(Lent Dinner Option Available) \nVenue: UNOH Event Center \nTickets $40 eachFor tickets call 419-331-5655 or reply to this email
URL:https://ohiogop.org/events/allen-county-americas-250-celebration-dinner/
LOCATION:UNOH Event Center\, 1450 N Cable Rd\, Lima\, OH\, 45805\, United States
END:VEVENT
BEGIN:VEVENT
DTSTART;TZID=America/New_York:20260331T180000
DTEND;TZID=America/New_York:20260331T184500
DTSTAMP:20260420T102305
CREATED:20260327T161829Z
LAST-MODIFIED:20260327T161829Z
UID:7123-1774980000-1774982700@ohiogop.org
SUMMARY:Licking County Lincoln Day Celebration
DESCRIPTION:The Licking County Republican Party – Lincoln Day Celebration \nTuesday\, March 31\, 2026 \nCherry Valley Hotel2299 Cherry Valley RoadNewark\, OH 43055 \nWith Special Guest: Keith Faber (Candidate for Ohio Attorney General) \nSchedule:6:00 pm – Social Hour with Cash Bar6:00 pm – 6:45 – VIP Cocktail Reception7:00 pm – Dinner & Program \nWebsite: https://www.lickingcountyrepublicanparty.com/news-and-events/licking-county-republican-partys-annual-lincoln-day-march-31-26
URL:https://ohiogop.org/events/licking-county-lincoln-day-celebration/
LOCATION:Cherry Valley Hotel\, 2299 Cherry Valley Road\, Newark\, OH\, 43055\, United States
END:VEVENT
BEGIN:VEVENT
DTSTART;TZID=America/New_York:20260330T180000
DTEND;TZID=America/New_York:20260330T200000
DTSTAMP:20260420T102305
CREATED:20260121T171625Z
LAST-MODIFIED:20260121T171625Z
UID:6437-1774893600-1774900800@ohiogop.org
SUMMARY:Geauga County Republican Party Republican Candidates Meet & Greet
DESCRIPTION:Geauga County Republican Party Republican Candidates Meet & GreetMeet the Republican Candidates on the May 5\, 2026 PrimaryDate: 2026-03-30Time: 6:00 pm until 8:00 pmLocation: Metzenbaum Center\, Small Gymnasium\, 8200 Cedar Road\, Chesterland OH 44026
URL:https://ohiogop.org/events/geauga-county-republican-party-republican-candidates-meet-greet/
LOCATION:Metzenbaum Center\, Small Gymnasium\, 8200 Cedar Road\, Chesterland\, OH\, 44026\, United States
END:VEVENT
BEGIN:VEVENT
DTSTART;TZID=America/New_York:20260327T180000
DTEND;TZID=America/New_York:20260327T180000
DTSTAMP:20260420T102305
CREATED:20260225T184016Z
LAST-MODIFIED:20260225T184016Z
UID:6836-1774634400-1774634400@ohiogop.org
SUMMARY:Clark County Republican Party Annual Lincoln Day Dinner
DESCRIPTION:Clark County Republican Party Annual Lincoln Day Dinner \nFriday\, March 27\, 2026 at the Courtyard by Marriott100 S. Fountain Avenue\, Springfield\, Ohio 45502 \nFeaturing Keynote Speaker Jon Husted\, US Senator from Ohio \nGeneral admission: $75 per person (opens at 5:30 pm)VIP: $125 per person (opens at 4:30 pm) with photo shoot by Champion City Photography \nWebsite: https://www.clarkcountyrepublicanpartyohio.com/donatebuytickets?fbclid=IwZXh0bgNhZW0CMTAAYnJpZBEyRHdmRnJXcm1UaGFORWdkcXNydGMGYXBwX2lkEDIyMjAzOTE3ODgyMDA4OTIAAR5nR54BzZd0pGFt2JxItlRmIHeLsTmkYYQI0d-9Zvk7WR8pI7GJThR7FMbMww_aem_5qh9-rpTBnmZRMHSXUuvZQ
URL:https://ohiogop.org/events/clark-county-republican-party-annual-lincoln-day-dinner/
LOCATION:Courtyard by Marriott\, 100 S. Fountain Avenue\, Springfield\, OH\, 45502\, United States
END:VEVENT
BEGIN:VEVENT
DTSTART;TZID=America/New_York:20260323T173000
DTEND;TZID=America/New_York:20260323T183000
DTSTAMP:20260420T102305
CREATED:20260225T183950Z
LAST-MODIFIED:20260225T183950Z
UID:6830-1774287000-1774290600@ohiogop.org
SUMMARY:Highland County Republican Lincoln Day Dinner
DESCRIPTION:Annual Lincoln Day Dinner with local\, State and Federal candidates and officeholder Come join us and meet the candidates on the May Primary from 5:30 to 6:30. Dinner served at 6:30. Gun Raffle by the Republican Club.. \nDate: 2026-03-23Location: Back Room Paradise 6174 Miller Lane\, Hillsboro\, Oh 45133
URL:https://ohiogop.org/events/highland-county-republican-lincoln-day-dinner/
LOCATION:Back Room Paradise\, 6174 Miller Lane\, Hillsboro\, OH\, 45133\, United States
END:VEVENT
BEGIN:VEVENT
DTSTART;TZID=America/New_York:20260318T000000
DTEND;TZID=America/New_York:20260318T000000
DTSTAMP:20260420T102305
CREATED:20260316T140136Z
LAST-MODIFIED:20260316T140136Z
UID:6931-1773792000-1773792000@ohiogop.org
SUMMARY:Sycamore Twsp./Deer Park Ohio March Meeting w/ Judge Shannan
DESCRIPTION:Monthly Meet n Greet \nDate: 2026-03-18Location: Deer Park Community Center\, 7640 Plainfield Road\, Deer Park Ohio 45236
URL:https://ohiogop.org/events/sycamore-twsp-deer-park-ohio-march-meeting-w-judge-shannan/
LOCATION:Deer Park Community Center\, 7640 Plainfield Road\, Deer Park\, OH\, 45236\, United States
END:VEVENT
BEGIN:VEVENT
DTSTART;TZID=America/New_York:20260314T170000
DTEND;TZID=America/New_York:20260314T170000
DTSTAMP:20260420T102305
CREATED:20260128T183830Z
LAST-MODIFIED:20260128T183830Z
UID:6508-1773507600-1773507600@ohiogop.org
SUMMARY:Putnam County Students for Life Dinner
DESCRIPTION:Students for life dinner in Putnam County. Keynote speaker is Pastor Lorenzo Sewell. \nDate: 2026-03-14Location: Ottawa American Legion post 63Address: 218 W Main St\, Ottawa\, OH 45875
URL:https://ohiogop.org/events/putnam-county-students-for-life-dinner/
LOCATION:Ottawa American Legion post 63\, 218 W Main St\, Ottawa\, OH\, 45875\, United States
END:VEVENT
BEGIN:VEVENT
DTSTART;TZID=America/New_York:20260314T090000
DTEND;TZID=America/New_York:20260314T110000
DTSTAMP:20260420T102305
CREATED:20260225T184018Z
LAST-MODIFIED:20260225T184018Z
UID:6840-1773478800-1773486000@ohiogop.org
SUMMARY:27th Annual Ohio Republican Pancake Breakfast
DESCRIPTION:27th Annual Ohio Republican Pancake Breakfast \nDate: 2026-03-14Time: 9am-11amLocation: Sharonville Convention Center \nKeynote Speaker Vivek Ramaswamy and comments by statewide candidates. $40 adv\, $50 at the door
URL:https://ohiogop.org/events/27th-annual-ohio-republican-pancake-breakfast/
LOCATION:Sharonville Convention Center\, 11355 Chester Rd\, Cincinnati\, OH\, 45246\, United States
END:VEVENT
BEGIN:VEVENT
DTSTART;TZID=America/New_York:20260309T170000
DTEND;TZID=America/New_York:20260309T170000
DTSTAMP:20260420T102305
CREATED:20260119T143952Z
LAST-MODIFIED:20260119T143952Z
UID:6388-1773075600-1773075600@ohiogop.org
SUMMARY:Wyandot County Republican Party Lincoln Day Dinner/Gun Auction
DESCRIPTION:Wyandot County Republican Party Lincoln Day Dinner/Gun Auction \nMarch 9\, 2026 \nWyandot County Masters Building \nDoors Open at 5pm/Dinner at 6pm \nLive Bidding Begins at 8pm (Online bidding available now through WMS) \n$30/ticket \nCatered by Corner Inn \nBill Clinger 419-835-4575 or Tonya Kitzler 419-722-1455
URL:https://ohiogop.org/events/wyandot-county-republican-party-lincoln-day-dinner-gun-auction/
LOCATION:Wyandot County Masters Building\, 10171 OH-53 N\, Upper Sandusky\, OH\, 43351\, United States
END:VEVENT
END:VCALENDAR