BEGIN:VCALENDAR
VERSION:2.0
PRODID:-//Ohio Republican Party - ECPv6.15.13.1//NONSGML v1.0//EN
CALSCALE:GREGORIAN
METHOD:PUBLISH
X-ORIGINAL-URL:https://ohiogop.org
X-WR-CALDESC:Events for Ohio Republican Party
REFRESH-INTERVAL;VALUE=DURATION:PT1H
X-Robots-Tag:noindex
X-PUBLISHED-TTL:PT1H
BEGIN:VTIMEZONE
TZID:Europe/London
BEGIN:DAYLIGHT
TZOFFSETFROM:+0000
TZOFFSETTO:+0100
TZNAME:BST
DTSTART:20240331T010000
END:DAYLIGHT
BEGIN:STANDARD
TZOFFSETFROM:+0100
TZOFFSETTO:+0000
TZNAME:GMT
DTSTART:20241027T010000
END:STANDARD
BEGIN:DAYLIGHT
TZOFFSETFROM:+0000
TZOFFSETTO:+0100
TZNAME:BST
DTSTART:20250330T010000
END:DAYLIGHT
BEGIN:STANDARD
TZOFFSETFROM:+0100
TZOFFSETTO:+0000
TZNAME:GMT
DTSTART:20251026T010000
END:STANDARD
BEGIN:DAYLIGHT
TZOFFSETFROM:+0000
TZOFFSETTO:+0100
TZNAME:BST
DTSTART:20260329T010000
END:DAYLIGHT
BEGIN:STANDARD
TZOFFSETFROM:+0100
TZOFFSETTO:+0000
TZNAME:GMT
DTSTART:20261025T010000
END:STANDARD
END:VTIMEZONE
BEGIN:VEVENT
DTSTART;TZID=Europe/London:20250605T173000
DTEND;TZID=Europe/London:20250605T203000
DTSTAMP:20260421T125658
CREATED:20251110T001720Z
LAST-MODIFIED:20251110T001720Z
UID:5412-1749144600-1749155400@ohiogop.org
SUMMARY:Cuyahoga County Lincoln Day Dinner & Celebration 2025
DESCRIPTION:Lincoln Day Dinner & Celebration featuring Lt. Governor Jim Tressel as keynote speaker. VIP reception at 5:30 PM\, doors open at 6 PM\, tickets include dinner and program.
URL:https://ohiogop.org/events/cuyahoga-county-lincoln-day-dinner-celebration-2025/
CATEGORIES:Dinner
END:VEVENT
END:VCALENDAR