BEGIN:VCALENDAR
VERSION:2.0
PRODID:-//Ohio Republican Party - ECPv6.15.13.1//NONSGML v1.0//EN
CALSCALE:GREGORIAN
METHOD:PUBLISH
X-WR-CALNAME:Ohio Republican Party
X-ORIGINAL-URL:https://ohiogop.org
X-WR-CALDESC:Events for Ohio Republican Party
REFRESH-INTERVAL;VALUE=DURATION:PT1H
X-Robots-Tag:noindex
X-PUBLISHED-TTL:PT1H
BEGIN:VTIMEZONE
TZID:America/New_York
BEGIN:DAYLIGHT
TZOFFSETFROM:-0500
TZOFFSETTO:-0400
TZNAME:EDT
DTSTART:20250309T070000
END:DAYLIGHT
BEGIN:STANDARD
TZOFFSETFROM:-0400
TZOFFSETTO:-0500
TZNAME:EST
DTSTART:20251102T060000
END:STANDARD
BEGIN:DAYLIGHT
TZOFFSETFROM:-0500
TZOFFSETTO:-0400
TZNAME:EDT
DTSTART:20260308T070000
END:DAYLIGHT
BEGIN:STANDARD
TZOFFSETFROM:-0400
TZOFFSETTO:-0500
TZNAME:EST
DTSTART:20261101T060000
END:STANDARD
BEGIN:DAYLIGHT
TZOFFSETFROM:-0500
TZOFFSETTO:-0400
TZNAME:EDT
DTSTART:20270314T070000
END:DAYLIGHT
BEGIN:STANDARD
TZOFFSETFROM:-0400
TZOFFSETTO:-0500
TZNAME:EST
DTSTART:20271107T060000
END:STANDARD
END:VTIMEZONE
BEGIN:VEVENT
DTSTART;TZID=America/New_York:20260416T173000
DTEND;TZID=America/New_York:20260416T173000
DTSTAMP:20260420T052112
CREATED:20260119T172821Z
LAST-MODIFIED:20260119T172821Z
UID:6396-1776360600-1776360600@ohiogop.org
SUMMARY:2026 Pike County Lincoln Dinner featuring Vivek Ramaswamy
DESCRIPTION:Pike County Republican Party Lincoln Dinner with Ohio Governor candidate Vivek Ramaswamy. \nDate: Thursday\, April 16th\, 2026Time: Social 5:30pm\, Dinner/Program 6:00pmVenue: Miracle City Academy\, 204 Commercial Blvd\, Piketon\, OH 45661Cost: Individual Ticket $35\, Table $400Website: https://www.facebook.com/share/p/16fvgCuPx5/
URL:https://ohiogop.org/events/2026-pike-county-lincoln-dinner-featuring-vivek-ramaswamy/
LOCATION:Miracle City Academy\, 204 Commercial Blvd\, Piketon\, OH\, 45661\, United States
END:VEVENT
END:VCALENDAR